BEGIN:VCALENDAR
VERSION:2.0
PRODID:xn--grne-deggendorf-0vb.de
METHOD:PUBLISH
BEGIN:VTIMEZONE
TZID:Europe/Berlin
X-LIC-LOCATION:Europe/Berlin
BEGIN:DAYLIGHT
TZOFFSETFROM:+0100
TZOFFSETTO:+0200
TZNAME:CEST
DTSTART:19700329T020000
RRULE:FREQ=YEARLY;INTERVAL=1;BYDAY=-1SU;BYMONTH=3
END:DAYLIGHT
BEGIN:STANDARD
TZOFFSETFROM:+0200
TZOFFSETTO:+0100
TZNAME:CET
DTSTART:19701025T030000
RRULE:FREQ=YEARLY;INTERVAL=1;BYDAY=-1SU;BYMONTH=10
END:STANDARD
END:VTIMEZONE
BEGIN:VEVENT
UID:18a669272998beb30bf93cd97f771b9e@xn--grne-deggendorf-0vb.de
URL;VALUE=URI:https://xn--grne-deggendorf-0vb.de/termine/robert-habeck-in
 -dingolfing/
LOCATION:Zirkuswiese, Dr.-Josef-Hastreiter-Straße, Dingolfing
SUMMARY:Robert Habeck in Dingolfing
DESCRIPTION;ALTREP="data:text/html,%0A%3Cp%3E%3Cstrong%3EHerzliche%20Einl
 adung%20an%20alle%20Interessierten%20nach%20Dingolfing%21%3C%2Fstrong%3E%
 3C%2Fp%3E%0A%0A%0A%0A%3Cp%3EUnser%20Bundesvorsitzender%20%3Ca%20href%3D%2
 2https%3A%2F%2Fwww.robert-habeck.de%2Fkandidatur-2021%2F%22%20target%3D%2
 2_blank%22%20rel%3D%22noreferrer%20noopener%22%3E%3Cstrong%3ERobert%20Hab
 eck%3C%2Fstrong%3E%3C%2Fa%3E%20kommt%20zu%20unserer%20Bundestagskandidati
 n%20%3Ca%20href%3D%22https%3A%2F%2Fwww.marlene-schoenberger.de%2F%22%20ta
 rget%3D%22_blank%22%20rel%3D%22noreferrer%20noopener%22%3E%3Cstrong%3EMar
 lene%20Sch%C3%B6nberger%3C%2Fstrong%3E%3C%2Fa%3E%20nach%20Dingolfing.%3C%
 2Fp%3E%0A%0A%0A%0A%3Cp%3EWir%20freuen%20uns%20auf%20viele%20Besucher%20di
 eser%20Veranstaltung%21%3C%2Fp%3E%0A":Herzliche Einladung an alle Interes
 sierten nach Dingolfing!\n\nUnser Bundesvorsitzender Robert Habeck kommt 
 zu unserer Bundestagskandidatin Marlene Schönberger nach Dingolfing.\n\n
 Wir freuen uns auf viele Besucher dieser Veranstaltung!
CLASS:PUBLIC
DTSTART;TZID=Europe/Berlin:20210916T123000
DTEND;TZID=Europe/Berlin:20210916T140000
DTSTAMP:20260423T224025
END:VEVENT
END:VCALENDAR